BEGIN:VCALENDAR
VERSION:2.0
PRODID:-//Tukios.com/
BEGIN:VEVENT
UID:f37023fc-0bed-4892-b781-758c74b76373@www.raymond.care
DTSTAMP:20260420T200814Z
DTSTART:20260423T163000Z
DTEND:20260423T170000Z
SUMMARY:Graveside Service
DESCRIPTION:
URL:https://www.raymond.care/obituaries/eithan-chavarria-maradiaga
LOCATION: 223 Richards Ave  Norwalk CT 06850
GEO:41.106522;-73.45327
END:VEVENT
END:VCALENDAR