BEGIN:VCALENDAR
VERSION:2.0
PRODID:-//Tukios.com/
BEGIN:VEVENT
UID:d5c106a8-8f2f-44b3-9b5b-7ab174a9f7da@www.raymond.care
DTSTAMP:20260420T201003Z
DTSTART:20260423T140000Z
DTEND:20260423T160000Z
SUMMARY:Visitation
DESCRIPTION:
URL:https://www.raymond.care/obituaries/eithan-chavarria-maradiaga
LOCATION: 5 E Wall St  Norwalk CT 06851
GEO:41.1181832;-73.4092688
END:VEVENT
END:VCALENDAR