BEGIN:VCALENDAR
VERSION:2.0
PRODID:-//Tukios.com/
BEGIN:VEVENT
UID:6131e717-1dcb-4a64-88a4-9951caaf26fb@www.raymond.care
DTSTAMP:20260424T214321Z
DTSTART:20260428T140000Z
DTEND:20260428T150000Z
SUMMARY:Funeral Service
DESCRIPTION:
URL:https://www.raymond.care/obituaries/celia-guevara
LOCATION: 25 Cliff St  Norwalk CT 06854
GEO:41.0928714;-73.4278334
END:VEVENT
END:VCALENDAR