BEGIN:VCALENDAR
VERSION:2.0
PRODID:-//Tukios.com/
BEGIN:VEVENT
UID:0ac50cfe-5a54-41ea-9f2d-e263ac3b35e6@www.raymond.care
DTSTAMP:20260424T214437Z
DTSTART:20260427T220000Z
DTEND:20260428T010000Z
SUMMARY:Visitation
DESCRIPTION:
URL:https://www.raymond.care/obituaries/celia-guevara
LOCATION: 5 E Wall St  Norwalk CT 06851
GEO:41.1181832;-73.4092688
END:VEVENT
END:VCALENDAR