BEGIN:VCALENDAR
VERSION:2.0
PRODID:-//Tukios.com/
BEGIN:VEVENT
UID:3ac0df9a-e668-44e6-8bac-97c4e789f04e@www.raymond.care
DTSTAMP:20260422T155628Z
DTSTART:20260425T220000Z
DTEND:20260426T000000Z
SUMMARY:Visitation
DESCRIPTION:Burial will take place in Honduras at a later date.
URL:https://www.raymond.care/obituaries/alex-cruz-tejeda
LOCATION: 5 E Wall St  Norwalk CT 06851
GEO:41.1181832;-73.4092688
END:VEVENT
END:VCALENDAR