BEGIN:VCALENDAR
VERSION:2.0
PRODID:-//Tukios.com/
BEGIN:VEVENT
UID:19743afe-a345-41ba-a817-345524a188bf@www.raymond.care
DTSTAMP:20260423T003739Z
DTSTART:20260426T180000Z
DTEND:20260426T220000Z
SUMMARY:Visitation
DESCRIPTION:
URL:https://www.raymond.care/obituaries/adelaida-nieves
LOCATION: 5 E Wall St  Norwalk CT 06851
GEO:41.1181832;-73.4092688
END:VEVENT
END:VCALENDAR